BEGIN:VCALENDAR
VERSION:2.0
PRODID:-//Ingleton Primary School - ECPv6.15.20//NONSGML v1.0//EN
CALSCALE:GREGORIAN
METHOD:PUBLISH
X-WR-CALNAME:Ingleton Primary School
X-ORIGINAL-URL:https://ingleton-pri.n-yorks.sch.uk
X-WR-CALDESC:Events for Ingleton Primary School
REFRESH-INTERVAL;VALUE=DURATION:PT1H
X-Robots-Tag:noindex
X-PUBLISHED-TTL:PT1H
BEGIN:VTIMEZONE
TZID:UTC
BEGIN:STANDARD
TZOFFSETFROM:+0000
TZOFFSETTO:+0000
TZNAME:UTC
DTSTART:20250101T000000
END:STANDARD
END:VTIMEZONE
BEGIN:VEVENT
DTSTART;TZID=UTC:20260709T180000
DTEND;TZID=UTC:20260709T190000
DTSTAMP:20260420T191949
CREATED:20260415T112915Z
LAST-MODIFIED:20260415T112929Z
UID:5743-1783620000-1783623600@ingleton-pri.n-yorks.sch.uk
SUMMARY:KS2 Show
DESCRIPTION:
URL:https://ingleton-pri.n-yorks.sch.uk/event/ks2-show/
END:VEVENT
BEGIN:VEVENT
DTSTART;TZID=UTC:20260710T140000
DTEND;TZID=UTC:20260710T153000
DTSTAMP:20260420T191949
CREATED:20260415T113001Z
LAST-MODIFIED:20260415T113140Z
UID:5746-1783692000-1783697400@ingleton-pri.n-yorks.sch.uk
SUMMARY:KS2 Show
DESCRIPTION:
URL:https://ingleton-pri.n-yorks.sch.uk/event/ks2-show-2/
END:VEVENT
BEGIN:VEVENT
DTSTART;TZID=UTC:20260717T100000
DTEND;TZID=UTC:20260717T110000
DTSTAMP:20260420T191949
CREATED:20260415T113213Z
LAST-MODIFIED:20260415T113218Z
UID:5749-1784282400-1784286000@ingleton-pri.n-yorks.sch.uk
SUMMARY:Year 6 Leavers assembly
DESCRIPTION:
URL:https://ingleton-pri.n-yorks.sch.uk/event/year-6-leavers-assembly/
END:VEVENT
BEGIN:VEVENT
DTSTART;VALUE=DATE:20260720
DTEND;VALUE=DATE:20260909
DTSTAMP:20260420T191949
CREATED:20260107T122646Z
LAST-MODIFIED:20260107T122648Z
UID:5478-1784505600-1788911999@ingleton-pri.n-yorks.sch.uk
SUMMARY:Summer Holidays
DESCRIPTION:
URL:https://ingleton-pri.n-yorks.sch.uk/event/summer-holidays/
END:VEVENT
BEGIN:VEVENT
DTSTART;VALUE=DATE:20260909
DTEND;VALUE=DATE:20260910
DTSTAMP:20260420T191949
CREATED:20260107T122722Z
LAST-MODIFIED:20260107T122725Z
UID:5481-1788912000-1788998399@ingleton-pri.n-yorks.sch.uk
SUMMARY:New term starts
DESCRIPTION:
URL:https://ingleton-pri.n-yorks.sch.uk/event/new-term-starts/
END:VEVENT
BEGIN:VEVENT
DTSTART;VALUE=DATE:20261127
DTEND;VALUE=DATE:20261128
DTSTAMP:20260420T191949
CREATED:20260107T122754Z
LAST-MODIFIED:20260107T122757Z
UID:5484-1795737600-1795823999@ingleton-pri.n-yorks.sch.uk
SUMMARY:Training Day - school closed
DESCRIPTION:
URL:https://ingleton-pri.n-yorks.sch.uk/event/training-day-school-closed-2/
END:VEVENT
END:VCALENDAR