BEGIN:VCALENDAR
VERSION:2.0
PRODID:-//Ingleton Primary School - ECPv6.15.20//NONSGML v1.0//EN
CALSCALE:GREGORIAN
METHOD:PUBLISH
X-WR-CALNAME:Ingleton Primary School
X-ORIGINAL-URL:https://ingleton-pri.n-yorks.sch.uk
X-WR-CALDESC:Events for Ingleton Primary School
REFRESH-INTERVAL;VALUE=DURATION:PT1H
X-Robots-Tag:noindex
X-PUBLISHED-TTL:PT1H
BEGIN:VTIMEZONE
TZID:UTC
BEGIN:STANDARD
TZOFFSETFROM:+0000
TZOFFSETTO:+0000
TZNAME:UTC
DTSTART:20240101T000000
END:STANDARD
END:VTIMEZONE
BEGIN:VEVENT
DTSTART;VALUE=DATE:20251017
DTEND;VALUE=DATE:20251018
DTSTAMP:20260421T020112
CREATED:20251007T113937Z
LAST-MODIFIED:20251007T113937Z
UID:5318-1760659200-1760745599@ingleton-pri.n-yorks.sch.uk
SUMMARY:Non Uniform Day
DESCRIPTION:
URL:https://ingleton-pri.n-yorks.sch.uk/event/non-uniform-day-6/
END:VEVENT
BEGIN:VEVENT
DTSTART;TZID=UTC:20251015T120000
DTEND;TZID=UTC:20251015T143000
DTSTAMP:20260421T020112
CREATED:20251007T112331Z
LAST-MODIFIED:20251007T112336Z
UID:5303-1760529600-1760538600@ingleton-pri.n-yorks.sch.uk
SUMMARY:Y3\,4\,5&6 Football - Ingleton Primary School
DESCRIPTION:
URL:https://ingleton-pri.n-yorks.sch.uk/event/y3456-football-ingleton-primary-school/
END:VEVENT
BEGIN:VEVENT
DTSTART;TZID=UTC:20251012T080000
DTEND;TZID=UTC:20251012T170000
DTSTAMP:20260421T020112
CREATED:20251007T112232Z
LAST-MODIFIED:20251007T112232Z
UID:5300-1760256000-1760288400@ingleton-pri.n-yorks.sch.uk
SUMMARY:Applications for Primary School places for 2026 open
DESCRIPTION:
URL:https://ingleton-pri.n-yorks.sch.uk/event/applications-for-primary-school-places-for-2026-open/
END:VEVENT
BEGIN:VEVENT
DTSTART;VALUE=DATE:20251009
DTEND;VALUE=DATE:20251011
DTSTAMP:20260421T020112
CREATED:20251007T112157Z
LAST-MODIFIED:20251007T112157Z
UID:5297-1759968000-1760140799@ingleton-pri.n-yorks.sch.uk
SUMMARY:Y6 Bikeability
DESCRIPTION:
URL:https://ingleton-pri.n-yorks.sch.uk/event/y6-bikeability/
END:VEVENT
BEGIN:VEVENT
DTSTART;TZID=UTC:20251008T120000
DTEND;TZID=UTC:20251008T153000
DTSTAMP:20260421T020112
CREATED:20251007T112126Z
LAST-MODIFIED:20251007T112126Z
UID:5294-1759924800-1759937400@ingleton-pri.n-yorks.sch.uk
SUMMARY:Netball at Settle College Y5/6
DESCRIPTION:
URL:https://ingleton-pri.n-yorks.sch.uk/event/netball-at-settle-college-y5-6/
END:VEVENT
BEGIN:VEVENT
DTSTART;TZID=UTC:20250718T090000
DTEND;TZID=UTC:20250718T093000
DTSTAMP:20260421T020112
CREATED:20250624T104223Z
LAST-MODIFIED:20250624T104223Z
UID:5174-1752829200-1752831000@ingleton-pri.n-yorks.sch.uk
SUMMARY:Y6 Leavers Assembly 9.15am
DESCRIPTION:
URL:https://ingleton-pri.n-yorks.sch.uk/event/y6-leavers-assembly-9-15am/
END:VEVENT
BEGIN:VEVENT
DTSTART;TZID=UTC:20250717T130000
DTEND;TZID=UTC:20250717T150000
DTSTAMP:20260421T020112
CREATED:20250624T104148Z
LAST-MODIFIED:20250624T104148Z
UID:5171-1752757200-1752764400@ingleton-pri.n-yorks.sch.uk
SUMMARY:Colour Run!
DESCRIPTION:
URL:https://ingleton-pri.n-yorks.sch.uk/event/colour-run/
END:VEVENT
BEGIN:VEVENT
DTSTART;TZID=UTC:20250711T093000
DTEND;TZID=UTC:20250711T110000
DTSTAMP:20260421T020112
CREATED:20250604T100253Z
LAST-MODIFIED:20250604T100253Z
UID:5129-1752226200-1752231600@ingleton-pri.n-yorks.sch.uk
SUMMARY:Swimming Gala Y3-6
DESCRIPTION:
URL:https://ingleton-pri.n-yorks.sch.uk/event/swimming-gala-y3-6/
END:VEVENT
BEGIN:VEVENT
DTSTART;TZID=UTC:20250709T180000
DTEND;TZID=UTC:20250709T190000
DTSTAMP:20260421T020112
CREATED:20250624T104107Z
LAST-MODIFIED:20250624T104107Z
UID:5168-1752084000-1752087600@ingleton-pri.n-yorks.sch.uk
SUMMARY:KS2 Show - The Wizard Of Oz
DESCRIPTION:
URL:https://ingleton-pri.n-yorks.sch.uk/event/ks2-show-the-wizard-of-oz-3/
END:VEVENT
BEGIN:VEVENT
DTSTART;TZID=UTC:20250708T180000
DTEND;TZID=UTC:20250708T190000
DTSTAMP:20260421T020112
CREATED:20250624T104041Z
LAST-MODIFIED:20250624T104041Z
UID:5165-1751997600-1752001200@ingleton-pri.n-yorks.sch.uk
SUMMARY:KS2 Show - The Wizard Of Oz
DESCRIPTION:
URL:https://ingleton-pri.n-yorks.sch.uk/event/ks2-show-the-wizard-of-oz-2/
END:VEVENT
BEGIN:VEVENT
DTSTART;TZID=UTC:20250708T140000
DTEND;TZID=UTC:20250708T150000
DTSTAMP:20260421T020112
CREATED:20250624T104015Z
LAST-MODIFIED:20250624T104015Z
UID:5162-1751983200-1751986800@ingleton-pri.n-yorks.sch.uk
SUMMARY:KS2 Show - The Wizard Of Oz
DESCRIPTION:
URL:https://ingleton-pri.n-yorks.sch.uk/event/ks2-show-the-wizard-of-oz/
END:VEVENT
BEGIN:VEVENT
DTSTART;TZID=UTC:20250704T090000
DTEND;TZID=UTC:20250704T120000
DTSTAMP:20260421T020112
CREATED:20250604T100218Z
LAST-MODIFIED:20250604T100218Z
UID:5126-1751619600-1751630400@ingleton-pri.n-yorks.sch.uk
SUMMARY:QES Induction Morning
DESCRIPTION:
URL:https://ingleton-pri.n-yorks.sch.uk/event/qes-induction-morning/
END:VEVENT
BEGIN:VEVENT
DTSTART;TZID=UTC:20250703T153000
DTEND;TZID=UTC:20250703T170000
DTSTAMP:20260421T020112
CREATED:20250624T103934Z
LAST-MODIFIED:20250624T103934Z
UID:5159-1751556600-1751562000@ingleton-pri.n-yorks.sch.uk
SUMMARY:Summer Fair
DESCRIPTION:
URL:https://ingleton-pri.n-yorks.sch.uk/event/summer-fair/
END:VEVENT
BEGIN:VEVENT
DTSTART;TZID=UTC:20250702T180000
DTEND;TZID=UTC:20250702T190000
DTSTAMP:20260421T020112
CREATED:20250604T100151Z
LAST-MODIFIED:20250604T100151Z
UID:5123-1751479200-1751482800@ingleton-pri.n-yorks.sch.uk
SUMMARY:Y6 QES Welcome evening
DESCRIPTION:
URL:https://ingleton-pri.n-yorks.sch.uk/event/y6-qes-welcome-evening/
END:VEVENT
BEGIN:VEVENT
DTSTART;TZID=UTC:20250702T140000
DTEND;TZID=UTC:20250702T150000
DTSTAMP:20260421T020112
CREATED:20250604T100125Z
LAST-MODIFIED:20250604T100125Z
UID:5120-1751464800-1751468400@ingleton-pri.n-yorks.sch.uk
SUMMARY:Nursery Stay & Play
DESCRIPTION:
URL:https://ingleton-pri.n-yorks.sch.uk/event/nursery-stay-play/
END:VEVENT
BEGIN:VEVENT
DTSTART;TZID=UTC:20250702T090000
DTEND;TZID=UTC:20250702T153000
DTSTAMP:20260421T020112
CREATED:20250604T100049Z
LAST-MODIFIED:20250604T100049Z
UID:5117-1751446800-1751470200@ingleton-pri.n-yorks.sch.uk
SUMMARY:Y6 Transition Day - Settle College
DESCRIPTION:
URL:https://ingleton-pri.n-yorks.sch.uk/event/y6-transition-day-settle-college/
END:VEVENT
BEGIN:VEVENT
DTSTART;TZID=UTC:20250701T173000
DTEND;TZID=UTC:20250701T190000
DTSTAMP:20260421T020112
CREATED:20250604T100016Z
LAST-MODIFIED:20250604T100016Z
UID:5114-1751391000-1751396400@ingleton-pri.n-yorks.sch.uk
SUMMARY:Settle College Transition Evening
DESCRIPTION:
URL:https://ingleton-pri.n-yorks.sch.uk/event/settle-college-transition-evening/
END:VEVENT
BEGIN:VEVENT
DTSTART;TZID=UTC:20250701T093000
DTEND;TZID=UTC:20250701T150000
DTSTAMP:20260421T020112
CREATED:20250604T095936Z
LAST-MODIFIED:20250604T095936Z
UID:5111-1751362200-1751382000@ingleton-pri.n-yorks.sch.uk
SUMMARY:Y1 Trip to Lower Winskill Farm
DESCRIPTION:
URL:https://ingleton-pri.n-yorks.sch.uk/event/y1-trip-to-lower-winskill-farm/
END:VEVENT
BEGIN:VEVENT
DTSTART;TZID=UTC:20250630T120000
DTEND;TZID=UTC:20250630T150000
DTSTAMP:20260421T020112
CREATED:20250624T103844Z
LAST-MODIFIED:20250624T103844Z
UID:5156-1751284800-1751295600@ingleton-pri.n-yorks.sch.uk
SUMMARY:Y1 and Y2 Mini Olympics Settle College
DESCRIPTION:
URL:https://ingleton-pri.n-yorks.sch.uk/event/y1-and-y2-mini-olympics-settle-college/
END:VEVENT
BEGIN:VEVENT
DTSTART;VALUE=DATE:20250630
DTEND;VALUE=DATE:20250702
DTSTAMP:20260421T020112
CREATED:20250604T095903Z
LAST-MODIFIED:20250604T095903Z
UID:5108-1751241600-1751414399@ingleton-pri.n-yorks.sch.uk
SUMMARY:Bikeability Y6
DESCRIPTION:
URL:https://ingleton-pri.n-yorks.sch.uk/event/bikeability-y6/
END:VEVENT
BEGIN:VEVENT
DTSTART;TZID=UTC:20250627T093000
DTEND;TZID=UTC:20250627T150000
DTSTAMP:20260421T020112
CREATED:20250624T103728Z
LAST-MODIFIED:20250624T103728Z
UID:5153-1751016600-1751036400@ingleton-pri.n-yorks.sch.uk
SUMMARY:Reception trip to Half Moon Bay
DESCRIPTION:
URL:https://ingleton-pri.n-yorks.sch.uk/event/reception-trip-to-half-moon-bay/
END:VEVENT
BEGIN:VEVENT
DTSTART;TZID=UTC:20250625T093000
DTEND;TZID=UTC:20250625T103000
DTSTAMP:20260421T020112
CREATED:20250604T095839Z
LAST-MODIFIED:20250604T095839Z
UID:5105-1750843800-1750847400@ingleton-pri.n-yorks.sch.uk
SUMMARY:Nursery mini olympics
DESCRIPTION:
URL:https://ingleton-pri.n-yorks.sch.uk/event/nursery-mini-olympics-2/
END:VEVENT
BEGIN:VEVENT
DTSTART;TZID=UTC:20250624T090000
DTEND;TZID=UTC:20250624T150000
DTSTAMP:20260421T020112
CREATED:20250206T133633Z
LAST-MODIFIED:20250206T133638Z
UID:4875-1750755600-1750777200@ingleton-pri.n-yorks.sch.uk
SUMMARY:Y2 - Yordas cave
DESCRIPTION:
URL:https://ingleton-pri.n-yorks.sch.uk/event/y2-yordas-cave/
END:VEVENT
BEGIN:VEVENT
DTSTART;TZID=UTC:20250623T140000
DTEND;TZID=UTC:20250623T150000
DTSTAMP:20260421T020112
CREATED:20250604T095810Z
LAST-MODIFIED:20250604T095810Z
UID:5102-1750687200-1750690800@ingleton-pri.n-yorks.sch.uk
SUMMARY:Nursery Stay and Play
DESCRIPTION:
URL:https://ingleton-pri.n-yorks.sch.uk/event/nursery-stay-and-play-2/
END:VEVENT
BEGIN:VEVENT
DTSTART;TZID=UTC:20250623T093000
DTEND;TZID=UTC:20250623T153000
DTSTAMP:20260421T020112
CREATED:20250604T095742Z
LAST-MODIFIED:20250604T095742Z
UID:5099-1750671000-1750692600@ingleton-pri.n-yorks.sch.uk
SUMMARY:Y3 & 4 Trip to Ambleside
DESCRIPTION:
URL:https://ingleton-pri.n-yorks.sch.uk/event/y3-4-trip-to-ambleside/
END:VEVENT
BEGIN:VEVENT
DTSTART;TZID=UTC:20250623T090000
DTEND;TZID=UTC:20250623T153000
DTSTAMP:20260421T020112
CREATED:20250206T133604Z
LAST-MODIFIED:20250206T133609Z
UID:4872-1750669200-1750692600@ingleton-pri.n-yorks.sch.uk
SUMMARY:Y6 Whernside
DESCRIPTION:
URL:https://ingleton-pri.n-yorks.sch.uk/event/y6-whernside/
END:VEVENT
BEGIN:VEVENT
DTSTART;TZID=UTC:20250618T180000
DTEND;TZID=UTC:20250618T190000
DTSTAMP:20260421T020112
CREATED:20250604T095644Z
LAST-MODIFIED:20250604T095644Z
UID:5093-1750269600-1750273200@ingleton-pri.n-yorks.sch.uk
SUMMARY:September Nursery & Reception starters parents meeting
DESCRIPTION:
URL:https://ingleton-pri.n-yorks.sch.uk/event/september-nursery-reception-starters-parents-meeting/
END:VEVENT
BEGIN:VEVENT
DTSTART;TZID=UTC:20250618T153000
DTEND;TZID=UTC:20250618T160000
DTSTAMP:20260421T020112
CREATED:20250604T095712Z
LAST-MODIFIED:20250604T095712Z
UID:5096-1750260600-1750262400@ingleton-pri.n-yorks.sch.uk
SUMMARY:PTA Meeting - in school
DESCRIPTION:
URL:https://ingleton-pri.n-yorks.sch.uk/event/pta-meeting-in-school-2/
END:VEVENT
BEGIN:VEVENT
DTSTART;TZID=UTC:20250617T133000
DTEND;TZID=UTC:20250617T150000
DTSTAMP:20260421T020112
CREATED:20250604T095601Z
LAST-MODIFIED:20250604T095601Z
UID:5090-1750167000-1750172400@ingleton-pri.n-yorks.sch.uk
SUMMARY:Sports Day
DESCRIPTION:
URL:https://ingleton-pri.n-yorks.sch.uk/event/sports-day-2/
END:VEVENT
BEGIN:VEVENT
DTSTART;TZID=UTC:20250606T093000
DTEND;TZID=UTC:20250606T130000
DTSTAMP:20260421T020112
CREATED:20250604T095509Z
LAST-MODIFIED:20250604T095509Z
UID:5087-1749202200-1749214800@ingleton-pri.n-yorks.sch.uk
SUMMARY:Swimming lessons y2 - y6
DESCRIPTION:
URL:https://ingleton-pri.n-yorks.sch.uk/event/swimming-lessons-y2-y6/
END:VEVENT
END:VCALENDAR