BEGIN:VCALENDAR
VERSION:2.0
PRODID:-//Ingleton Primary School - ECPv6.15.20//NONSGML v1.0//EN
CALSCALE:GREGORIAN
METHOD:PUBLISH
X-ORIGINAL-URL:https://ingleton-pri.n-yorks.sch.uk
X-WR-CALDESC:Events for Ingleton Primary School
REFRESH-INTERVAL;VALUE=DURATION:PT1H
X-Robots-Tag:noindex
X-PUBLISHED-TTL:PT1H
BEGIN:VTIMEZONE
TZID:UTC
BEGIN:STANDARD
TZOFFSETFROM:+0000
TZOFFSETTO:+0000
TZNAME:UTC
DTSTART:20250101T000000
END:STANDARD
END:VTIMEZONE
BEGIN:VEVENT
DTSTART;TZID=UTC:20260113T120000
DTEND;TZID=UTC:20260113T143000
DTSTAMP:20260421T051631
CREATED:20260107T121906Z
LAST-MODIFIED:20260107T121908Z
UID:5440-1768305600-1768314600@ingleton-pri.n-yorks.sch.uk
SUMMARY:Cross Country Years 3-6
DESCRIPTION:Taking place at Ingleton Primary School
URL:https://ingleton-pri.n-yorks.sch.uk/event/cross-country-years-3-6/
END:VEVENT
BEGIN:VEVENT
DTSTART;TZID=UTC:20260121T173000
DTEND;TZID=UTC:20260121T190000
DTSTAMP:20260421T051631
CREATED:20260107T121942Z
LAST-MODIFIED:20260107T121945Z
UID:5443-1769016600-1769022000@ingleton-pri.n-yorks.sch.uk
SUMMARY:PTA Film Night
DESCRIPTION:
URL:https://ingleton-pri.n-yorks.sch.uk/event/pta-film-night-2/
END:VEVENT
BEGIN:VEVENT
DTSTART;TZID=UTC:20260129T153000
DTEND;TZID=UTC:20260129T160000
DTSTAMP:20260421T051631
CREATED:20260107T122100Z
LAST-MODIFIED:20260107T122103Z
UID:5446-1769700600-1769702400@ingleton-pri.n-yorks.sch.uk
SUMMARY:PTA Meeting
DESCRIPTION:
URL:https://ingleton-pri.n-yorks.sch.uk/event/pta-meeting-2/
END:VEVENT
BEGIN:VEVENT
DTSTART;TZID=UTC:20260205T093000
DTEND;TZID=UTC:20260205T230000
DTSTAMP:20260421T051631
CREATED:20260107T122303Z
LAST-MODIFIED:20260107T122306Z
UID:5457-1770283800-1770332400@ingleton-pri.n-yorks.sch.uk
SUMMARY:Young Voices - Manchester
DESCRIPTION:
URL:https://ingleton-pri.n-yorks.sch.uk/event/young-voices-manchester/
END:VEVENT
BEGIN:VEVENT
DTSTART;TZID=UTC:20260212T173000
DTEND;TZID=UTC:20260212T200000
DTSTAMP:20260421T051631
CREATED:20260107T122336Z
LAST-MODIFIED:20260202T102402Z
UID:5460-1770917400-1770926400@ingleton-pri.n-yorks.sch.uk
SUMMARY:PTA Disco
DESCRIPTION:KS1 -5.30-6.30pm \nKS2 6.45-7.45pm
URL:https://ingleton-pri.n-yorks.sch.uk/event/pta-disco-2/
END:VEVENT
BEGIN:VEVENT
DTSTART;VALUE=DATE:20260216
DTEND;VALUE=DATE:20260221
DTSTAMP:20260421T051631
CREATED:20260107T122403Z
LAST-MODIFIED:20260107T122406Z
UID:5463-1771200000-1771631999@ingleton-pri.n-yorks.sch.uk
SUMMARY:Half term
DESCRIPTION:
URL:https://ingleton-pri.n-yorks.sch.uk/event/half-term-3/
END:VEVENT
BEGIN:VEVENT
DTSTART;VALUE=DATE:20260305
DTEND;VALUE=DATE:20260306
DTSTAMP:20260421T051631
CREATED:20260224T144341Z
LAST-MODIFIED:20260225T121445Z
UID:5607-1772668800-1772755199@ingleton-pri.n-yorks.sch.uk
SUMMARY:World Book Day - Children can wear pyjamas to school
DESCRIPTION:
URL:https://ingleton-pri.n-yorks.sch.uk/event/world-book-day-wear-something-comfy-to-school/
END:VEVENT
BEGIN:VEVENT
DTSTART;VALUE=DATE:20260306
DTEND;VALUE=DATE:20260307
DTSTAMP:20260421T051631
CREATED:20260224T144415Z
LAST-MODIFIED:20260224T144419Z
UID:5610-1772755200-1772841599@ingleton-pri.n-yorks.sch.uk
SUMMARY:Judo Taster Day Y1-6
DESCRIPTION:
URL:https://ingleton-pri.n-yorks.sch.uk/event/judo-taster-day-y1-6/
END:VEVENT
BEGIN:VEVENT
DTSTART;TZID=UTC:20260310T130000
DTEND;TZID=UTC:20260310T150000
DTSTAMP:20260421T051631
CREATED:20260224T144540Z
LAST-MODIFIED:20260224T144545Z
UID:5613-1773147600-1773154800@ingleton-pri.n-yorks.sch.uk
SUMMARY:KS2 Cross Country at Ingleton
DESCRIPTION:
URL:https://ingleton-pri.n-yorks.sch.uk/event/ks2-cross-country-at-ingleton/
END:VEVENT
BEGIN:VEVENT
DTSTART;TZID=UTC:20260317T130000
DTEND;TZID=UTC:20260317T150000
DTSTAMP:20260421T051631
CREATED:20260224T144738Z
LAST-MODIFIED:20260224T144743Z
UID:5616-1773752400-1773759600@ingleton-pri.n-yorks.sch.uk
SUMMARY:Year 1 - Multi Skills at Bentham Primary
DESCRIPTION:
URL:https://ingleton-pri.n-yorks.sch.uk/event/year-1-multi-skills-at-bentham-primary/
END:VEVENT
BEGIN:VEVENT
DTSTART;TZID=UTC:20260317T180000
DTEND;TZID=UTC:20260317T190000
DTSTAMP:20260421T051631
CREATED:20260224T144823Z
LAST-MODIFIED:20260224T144828Z
UID:5619-1773770400-1773774000@ingleton-pri.n-yorks.sch.uk
SUMMARY:Year 5 - Brathay Meeting
DESCRIPTION:
URL:https://ingleton-pri.n-yorks.sch.uk/event/year-5-brathay-meeting/
END:VEVENT
BEGIN:VEVENT
DTSTART;TZID=UTC:20260319T083000
DTEND;TZID=UTC:20260319T130000
DTSTAMP:20260421T051631
CREATED:20260224T144907Z
LAST-MODIFIED:20260224T144911Z
UID:5622-1773909000-1773925200@ingleton-pri.n-yorks.sch.uk
SUMMARY:Year 6 - Crucial Crew at Gargrave
DESCRIPTION:
URL:https://ingleton-pri.n-yorks.sch.uk/event/year-6-crucial-crew-at-gargrave/
END:VEVENT
BEGIN:VEVENT
DTSTART;TZID=UTC:20260320T080000
DTEND;TZID=UTC:20260320T170000
DTSTAMP:20260421T051631
CREATED:20260202T102433Z
LAST-MODIFIED:20260202T102437Z
UID:5569-1773993600-1774026000@ingleton-pri.n-yorks.sch.uk
SUMMARY:Non Uniform Day
DESCRIPTION:
URL:https://ingleton-pri.n-yorks.sch.uk/event/non-uniform-day-8/
END:VEVENT
BEGIN:VEVENT
DTSTART;TZID=UTC:20260320T090000
DTEND;TZID=UTC:20260320T093000
DTSTAMP:20260421T051631
CREATED:20260318T085928Z
LAST-MODIFIED:20260318T090018Z
UID:5650-1773997200-1773999000@ingleton-pri.n-yorks.sch.uk
SUMMARY:Deadline for returning order forms for hoodies - year 6
DESCRIPTION:
URL:https://ingleton-pri.n-yorks.sch.uk/event/deadline-for-returning-order-forms-for-hoodies-year-6/
END:VEVENT
BEGIN:VEVENT
DTSTART;TZID=UTC:20260323T090000
DTEND;TZID=UTC:20260323T153000
DTSTAMP:20260421T051631
CREATED:20260224T145003Z
LAST-MODIFIED:20260224T145003Z
UID:5625-1774256400-1774279800@ingleton-pri.n-yorks.sch.uk
SUMMARY:Year 5 - Ingleborough
DESCRIPTION:Olly Roberts Outdoors will be leading the children up Ingleborough
URL:https://ingleton-pri.n-yorks.sch.uk/event/year-5-ingleborough/
END:VEVENT
BEGIN:VEVENT
DTSTART;TZID=UTC:20260324T133000
DTEND;TZID=UTC:20260324T150000
DTSTAMP:20260421T051631
CREATED:20260224T145231Z
LAST-MODIFIED:20260224T145235Z
UID:5631-1774359000-1774364400@ingleton-pri.n-yorks.sch.uk
SUMMARY:Year 6 Rewind to Easter - Bentham
DESCRIPTION:
URL:https://ingleton-pri.n-yorks.sch.uk/event/year-6-rewind-to-easter-bentham/
END:VEVENT
BEGIN:VEVENT
DTSTART;TZID=UTC:20260324T140000
DTEND;TZID=UTC:20260324T150000
DTSTAMP:20260421T051631
CREATED:20260224T145141Z
LAST-MODIFIED:20260318T085342Z
UID:5628-1774360800-1774364400@ingleton-pri.n-yorks.sch.uk
SUMMARY:KS1 (Years 1 &2) Show 2pm and 6pm
DESCRIPTION:
URL:https://ingleton-pri.n-yorks.sch.uk/event/ks2-years-1-2-show-2pm-and-6pm/
END:VEVENT
BEGIN:VEVENT
DTSTART;TZID=UTC:20260326T090000
DTEND;TZID=UTC:20260326T143000
DTSTAMP:20260421T051631
CREATED:20260318T085636Z
LAST-MODIFIED:20260318T085749Z
UID:5646-1774515600-1774535400@ingleton-pri.n-yorks.sch.uk
SUMMARY:Cross Country - Skipton
DESCRIPTION:For those children who qualified in the Cross Country event at school.
URL:https://ingleton-pri.n-yorks.sch.uk/event/cross-country-skipton/
END:VEVENT
BEGIN:VEVENT
DTSTART;TZID=UTC:20260326T180000
DTEND;TZID=UTC:20260326T200000
DTSTAMP:20260421T051631
CREATED:20260107T122452Z
LAST-MODIFIED:20260107T122454Z
UID:5466-1774548000-1774555200@ingleton-pri.n-yorks.sch.uk
SUMMARY:PTA Easter Bingo
DESCRIPTION:
URL:https://ingleton-pri.n-yorks.sch.uk/event/pta-easter-bingo/
END:VEVENT
BEGIN:VEVENT
DTSTART;VALUE=DATE:20260330
DTEND;VALUE=DATE:20260411
DTSTAMP:20260421T051631
CREATED:20260107T122522Z
LAST-MODIFIED:20260107T122525Z
UID:5469-1774828800-1775865599@ingleton-pri.n-yorks.sch.uk
SUMMARY:Easter holidays
DESCRIPTION:
URL:https://ingleton-pri.n-yorks.sch.uk/event/easter-holidays-2/
END:VEVENT
BEGIN:VEVENT
DTSTART;TZID=UTC:20260501T093000
DTEND;TZID=UTC:20260501T133000
DTSTAMP:20260421T051631
CREATED:20260415T103944Z
LAST-MODIFIED:20260415T103948Z
UID:5696-1777627800-1777642200@ingleton-pri.n-yorks.sch.uk
SUMMARY:Class Photos
DESCRIPTION:
URL:https://ingleton-pri.n-yorks.sch.uk/event/class-photos-3/
END:VEVENT
BEGIN:VEVENT
DTSTART;VALUE=DATE:20260504
DTEND;VALUE=DATE:20260505
DTSTAMP:20260421T051631
CREATED:20260107T122548Z
LAST-MODIFIED:20260107T122550Z
UID:5472-1777852800-1777939199@ingleton-pri.n-yorks.sch.uk
SUMMARY:Bank Holiday - school closed
DESCRIPTION:
URL:https://ingleton-pri.n-yorks.sch.uk/event/bank-holiday-school-closed/
END:VEVENT
BEGIN:VEVENT
DTSTART;TZID=UTC:20260505T180000
DTEND;TZID=UTC:20260505T183000
DTSTAMP:20260421T051631
CREATED:20260415T104933Z
LAST-MODIFIED:20260415T104938Z
UID:5699-1778004000-1778005800@ingleton-pri.n-yorks.sch.uk
SUMMARY:Year 1 Phonics Meeting 6pm
DESCRIPTION:
URL:https://ingleton-pri.n-yorks.sch.uk/event/year-1-phonics-meeting-6pm/
END:VEVENT
BEGIN:VEVENT
DTSTART;VALUE=DATE:20260506
DTEND;VALUE=DATE:20260509
DTSTAMP:20260421T051631
CREATED:20260107T122136Z
LAST-MODIFIED:20260107T122226Z
UID:5449-1778025600-1778284799@ingleton-pri.n-yorks.sch.uk
SUMMARY:Year 5 Residential
DESCRIPTION:
URL:https://ingleton-pri.n-yorks.sch.uk/event/brathay-residential-year-5/
END:VEVENT
BEGIN:VEVENT
DTSTART;TZID=UTC:20260518T093000
DTEND;TZID=UTC:20260518T153000
DTSTAMP:20260421T051631
CREATED:20260415T105010Z
LAST-MODIFIED:20260415T105015Z
UID:5702-1779096600-1779118200@ingleton-pri.n-yorks.sch.uk
SUMMARY:Y4 Caving & Climbing Trip
DESCRIPTION:
URL:https://ingleton-pri.n-yorks.sch.uk/event/y4-caving-climbing-trip/
END:VEVENT
BEGIN:VEVENT
DTSTART;TZID=UTC:20260520T090000
DTEND;TZID=UTC:20260520T150000
DTSTAMP:20260421T051631
CREATED:20260415T105048Z
LAST-MODIFIED:20260415T105052Z
UID:5705-1779267600-1779289200@ingleton-pri.n-yorks.sch.uk
SUMMARY:Years 4\, 5 & 6 Theatre Trip
DESCRIPTION:
URL:https://ingleton-pri.n-yorks.sch.uk/event/years-4-5-6-theatre-trip/
END:VEVENT
BEGIN:VEVENT
DTSTART;VALUE=DATE:20260525
DTEND;VALUE=DATE:20260530
DTSTAMP:20260421T051631
CREATED:20260107T122609Z
LAST-MODIFIED:20260107T122612Z
UID:5475-1779667200-1780099199@ingleton-pri.n-yorks.sch.uk
SUMMARY:Half Term
DESCRIPTION:
URL:https://ingleton-pri.n-yorks.sch.uk/event/half-term-4/
END:VEVENT
BEGIN:VEVENT
DTSTART;VALUE=DATE:20260602
DTEND;VALUE=DATE:20260606
DTSTAMP:20260421T051631
CREATED:20260415T112357Z
LAST-MODIFIED:20260415T112403Z
UID:5722-1780358400-1780703999@ingleton-pri.n-yorks.sch.uk
SUMMARY:Bikeability Year 5 (two groups for 2 days each)
DESCRIPTION:
URL:https://ingleton-pri.n-yorks.sch.uk/event/bikeability-year-5-two-groups-for-2-days-each/
END:VEVENT
BEGIN:VEVENT
DTSTART;VALUE=DATE:20260603
DTEND;VALUE=DATE:20260606
DTSTAMP:20260421T051631
CREATED:20260107T122207Z
LAST-MODIFIED:20260107T122209Z
UID:5452-1780444800-1780703999@ingleton-pri.n-yorks.sch.uk
SUMMARY:Year 6 Residential
DESCRIPTION:
URL:https://ingleton-pri.n-yorks.sch.uk/event/year-6-residential-2/
END:VEVENT
BEGIN:VEVENT
DTSTART;TZID=UTC:20260609T093000
DTEND;TZID=UTC:20260609T143000
DTSTAMP:20260421T051631
CREATED:20260415T112517Z
LAST-MODIFIED:20260415T112522Z
UID:5725-1780997400-1781015400@ingleton-pri.n-yorks.sch.uk
SUMMARY:Year 2 - Yordas Cave Trip
DESCRIPTION:
URL:https://ingleton-pri.n-yorks.sch.uk/event/year-2-yordas-cave-trip/
END:VEVENT
END:VCALENDAR