BEGIN:VCALENDAR
VERSION:2.0
PRODID:-//Ingleton Primary School - ECPv6.15.20//NONSGML v1.0//EN
CALSCALE:GREGORIAN
METHOD:PUBLISH
X-ORIGINAL-URL:https://ingleton-pri.n-yorks.sch.uk
X-WR-CALDESC:Events for Ingleton Primary School
REFRESH-INTERVAL;VALUE=DURATION:PT1H
X-Robots-Tag:noindex
X-PUBLISHED-TTL:PT1H
BEGIN:VTIMEZONE
TZID:UTC
BEGIN:STANDARD
TZOFFSETFROM:+0000
TZOFFSETTO:+0000
TZNAME:UTC
DTSTART:20240101T000000
END:STANDARD
END:VTIMEZONE
BEGIN:VEVENT
DTSTART;TZID=UTC:20250213T174500
DTEND;TZID=UTC:20250213T181500
DTSTAMP:20260420T233803
CREATED:20250206T120354Z
LAST-MODIFIED:20250206T120359Z
UID:4841-1739468700-1739470500@ingleton-pri.n-yorks.sch.uk
SUMMARY:Brathay Meeting for Y5 parents
DESCRIPTION:
URL:https://ingleton-pri.n-yorks.sch.uk/event/brathay-meeting-for-y5-parents/
END:VEVENT
BEGIN:VEVENT
DTSTART;VALUE=DATE:20250217
DTEND;VALUE=DATE:20250222
DTSTAMP:20260420T233803
CREATED:20250206T120849Z
LAST-MODIFIED:20250206T120853Z
UID:4857-1739750400-1740182399@ingleton-pri.n-yorks.sch.uk
SUMMARY:Half term
DESCRIPTION:
URL:https://ingleton-pri.n-yorks.sch.uk/event/half-term-2/
END:VEVENT
BEGIN:VEVENT
DTSTART;TZID=UTC:20250225T090000
DTEND;TZID=UTC:20250225T153000
DTSTAMP:20260420T233803
CREATED:20250206T120541Z
LAST-MODIFIED:20250206T120546Z
UID:4847-1740474000-1740497400@ingleton-pri.n-yorks.sch.uk
SUMMARY:Author visit
DESCRIPTION:Matt Goodfellow will be visiting us for the day.
URL:https://ingleton-pri.n-yorks.sch.uk/event/author-visit/
END:VEVENT
BEGIN:VEVENT
DTSTART;TZID=UTC:20250227T090000
DTEND;TZID=UTC:20250227T150000
DTSTAMP:20260420T233803
CREATED:20250206T121019Z
LAST-MODIFIED:20250206T121022Z
UID:4860-1740646800-1740668400@ingleton-pri.n-yorks.sch.uk
SUMMARY:Y5&6 trip to Heysham Power Station
DESCRIPTION:
URL:https://ingleton-pri.n-yorks.sch.uk/event/y56-trip-to-heysham-power-station/
END:VEVENT
BEGIN:VEVENT
DTSTART;VALUE=DATE:20250304
DTEND;VALUE=DATE:20250307
DTSTAMP:20260420T233803
CREATED:20250303T160222Z
LAST-MODIFIED:20250303T160222Z
UID:4891-1741046400-1741305599@ingleton-pri.n-yorks.sch.uk
SUMMARY:Book Fair
DESCRIPTION:
URL:https://ingleton-pri.n-yorks.sch.uk/event/book-fair-4/
END:VEVENT
BEGIN:VEVENT
DTSTART;TZID=UTC:20250306T090000
DTEND;TZID=UTC:20250306T153000
DTSTAMP:20260420T233803
CREATED:20250206T120612Z
LAST-MODIFIED:20250206T120616Z
UID:4850-1741251600-1741275000@ingleton-pri.n-yorks.sch.uk
SUMMARY:World book day
DESCRIPTION:
URL:https://ingleton-pri.n-yorks.sch.uk/event/world-book-day-3/
END:VEVENT
BEGIN:VEVENT
DTSTART;TZID=UTC:20250307T120000
DTEND;TZID=UTC:20250307T130000
DTSTAMP:20260420T233803
CREATED:20250303T160413Z
LAST-MODIFIED:20250303T160559Z
UID:4897-1741348800-1741352400@ingleton-pri.n-yorks.sch.uk
SUMMARY:Girls Football - Let Girls Play Football Session
DESCRIPTION:
URL:https://ingleton-pri.n-yorks.sch.uk/event/girls-football-let-girls-play-football-session/
END:VEVENT
BEGIN:VEVENT
DTSTART;TZID=UTC:20250312T153000
DTEND;TZID=UTC:20250312T160000
DTSTAMP:20260420T233803
CREATED:20250303T161409Z
LAST-MODIFIED:20250303T161415Z
UID:4919-1741793400-1741795200@ingleton-pri.n-yorks.sch.uk
SUMMARY:PTA Meeting - in school
DESCRIPTION:
URL:https://ingleton-pri.n-yorks.sch.uk/event/pta-meeting-in-school/
END:VEVENT
BEGIN:VEVENT
DTSTART;TZID=UTC:20250318T093000
DTEND;TZID=UTC:20250318T113000
DTSTAMP:20260420T233803
CREATED:20250303T160955Z
LAST-MODIFIED:20250303T161001Z
UID:4901-1742290200-1742297400@ingleton-pri.n-yorks.sch.uk
SUMMARY:Tag Rugby Y3-6
DESCRIPTION:
URL:https://ingleton-pri.n-yorks.sch.uk/event/tag-rugby-y3-6/
END:VEVENT
BEGIN:VEVENT
DTSTART;TZID=UTC:20250318T180000
DTEND;TZID=UTC:20250318T183000
DTSTAMP:20260420T233803
CREATED:20250303T160302Z
LAST-MODIFIED:20250303T160308Z
UID:4894-1742320800-1742322600@ingleton-pri.n-yorks.sch.uk
SUMMARY:Parent SEND workshop
DESCRIPTION:
URL:https://ingleton-pri.n-yorks.sch.uk/event/parent-send-workshop/
END:VEVENT
BEGIN:VEVENT
DTSTART;TZID=UTC:20250320T090000
DTEND;TZID=UTC:20250320T120000
DTSTAMP:20260420T233803
CREATED:20250303T161116Z
LAST-MODIFIED:20250303T161122Z
UID:4907-1742461200-1742472000@ingleton-pri.n-yorks.sch.uk
SUMMARY:Crucial Crew Y6
DESCRIPTION:
URL:https://ingleton-pri.n-yorks.sch.uk/event/crucial-crew-y6/
END:VEVENT
BEGIN:VEVENT
DTSTART;TZID=UTC:20250320T133000
DTEND;TZID=UTC:20250320T150000
DTSTAMP:20260420T233803
CREATED:20250303T161043Z
LAST-MODIFIED:20250303T161050Z
UID:4904-1742477400-1742482800@ingleton-pri.n-yorks.sch.uk
SUMMARY:Cross Country Final
DESCRIPTION:
URL:https://ingleton-pri.n-yorks.sch.uk/event/cross-country-final-4/
END:VEVENT
BEGIN:VEVENT
DTSTART;TZID=UTC:20250324T093000
DTEND;TZID=UTC:20250324T110000
DTSTAMP:20260420T233803
CREATED:20250303T161203Z
LAST-MODIFIED:20250303T161209Z
UID:4910-1742808600-1742814000@ingleton-pri.n-yorks.sch.uk
SUMMARY:Height and Weight checks Reception and Year 6
DESCRIPTION:
URL:https://ingleton-pri.n-yorks.sch.uk/event/height-and-weight-checks-reception-and-year-6/
END:VEVENT
BEGIN:VEVENT
DTSTART;VALUE=DATE:20250328
DTEND;VALUE=DATE:20250329
DTSTAMP:20260420T233803
CREATED:20250303T161257Z
LAST-MODIFIED:20250303T161305Z
UID:4913-1743120000-1743206399@ingleton-pri.n-yorks.sch.uk
SUMMARY:Non uniform day
DESCRIPTION:In return for a small raffle prize for Easter bingo.
URL:https://ingleton-pri.n-yorks.sch.uk/event/non-uniform-day-5/
END:VEVENT
BEGIN:VEVENT
DTSTART;TZID=UTC:20250403T183000
DTEND;TZID=UTC:20250403T200000
DTSTAMP:20260420T233803
CREATED:20250303T161334Z
LAST-MODIFIED:20250303T161339Z
UID:4916-1743705000-1743710400@ingleton-pri.n-yorks.sch.uk
SUMMARY:Easter Bingo!
DESCRIPTION:
URL:https://ingleton-pri.n-yorks.sch.uk/event/easter-bingo-3/
END:VEVENT
BEGIN:VEVENT
DTSTART;VALUE=DATE:20250507
DTEND;VALUE=DATE:20250510
DTSTAMP:20260420T233803
CREATED:20241001T122241Z
LAST-MODIFIED:20241001T122241Z
UID:4433-1746576000-1746835199@ingleton-pri.n-yorks.sch.uk
SUMMARY:Y5 Brathay
DESCRIPTION:
URL:https://ingleton-pri.n-yorks.sch.uk/event/y5-brathay/
END:VEVENT
BEGIN:VEVENT
DTSTART;VALUE=DATE:20250512
DTEND;VALUE=DATE:20250516
DTSTAMP:20260420T233803
CREATED:20250206T133406Z
LAST-MODIFIED:20250206T133412Z
UID:4863-1747008000-1747353599@ingleton-pri.n-yorks.sch.uk
SUMMARY:SATS - Y6
DESCRIPTION:
URL:https://ingleton-pri.n-yorks.sch.uk/event/sats-y6/
END:VEVENT
BEGIN:VEVENT
DTSTART;TZID=UTC:20250519T090000
DTEND;TZID=UTC:20250519T150000
DTSTAMP:20260420T233803
CREATED:20250206T133445Z
LAST-MODIFIED:20250206T133450Z
UID:4866-1747645200-1747666800@ingleton-pri.n-yorks.sch.uk
SUMMARY:Y3 Norber adventure
DESCRIPTION:
URL:https://ingleton-pri.n-yorks.sch.uk/event/y3-norber-adventure-2/
END:VEVENT
BEGIN:VEVENT
DTSTART;TZID=UTC:20250522T090000
DTEND;TZID=UTC:20250522T150000
DTSTAMP:20260420T233803
CREATED:20250206T133517Z
LAST-MODIFIED:20250206T133522Z
UID:4869-1747904400-1747926000@ingleton-pri.n-yorks.sch.uk
SUMMARY:Y4 Caving & Climbing
DESCRIPTION:
URL:https://ingleton-pri.n-yorks.sch.uk/event/y4-caving-climbing/
END:VEVENT
BEGIN:VEVENT
DTSTART;VALUE=DATE:20250602
DTEND;VALUE=DATE:20250605
DTSTAMP:20260420T233803
CREATED:20241001T122305Z
LAST-MODIFIED:20241001T122305Z
UID:4436-1748822400-1749081599@ingleton-pri.n-yorks.sch.uk
SUMMARY:Y6 Edinburgh
DESCRIPTION:
URL:https://ingleton-pri.n-yorks.sch.uk/event/y6-edinburgh/
END:VEVENT
BEGIN:VEVENT
DTSTART;TZID=UTC:20250606T093000
DTEND;TZID=UTC:20250606T130000
DTSTAMP:20260420T233803
CREATED:20250604T095509Z
LAST-MODIFIED:20250604T095509Z
UID:5087-1749202200-1749214800@ingleton-pri.n-yorks.sch.uk
SUMMARY:Swimming lessons y2 - y6
DESCRIPTION:
URL:https://ingleton-pri.n-yorks.sch.uk/event/swimming-lessons-y2-y6/
END:VEVENT
BEGIN:VEVENT
DTSTART;TZID=UTC:20250617T133000
DTEND;TZID=UTC:20250617T150000
DTSTAMP:20260420T233803
CREATED:20250604T095601Z
LAST-MODIFIED:20250604T095601Z
UID:5090-1750167000-1750172400@ingleton-pri.n-yorks.sch.uk
SUMMARY:Sports Day
DESCRIPTION:
URL:https://ingleton-pri.n-yorks.sch.uk/event/sports-day-2/
END:VEVENT
BEGIN:VEVENT
DTSTART;TZID=UTC:20250618T153000
DTEND;TZID=UTC:20250618T160000
DTSTAMP:20260420T233803
CREATED:20250604T095712Z
LAST-MODIFIED:20250604T095712Z
UID:5096-1750260600-1750262400@ingleton-pri.n-yorks.sch.uk
SUMMARY:PTA Meeting - in school
DESCRIPTION:
URL:https://ingleton-pri.n-yorks.sch.uk/event/pta-meeting-in-school-2/
END:VEVENT
BEGIN:VEVENT
DTSTART;TZID=UTC:20250618T180000
DTEND;TZID=UTC:20250618T190000
DTSTAMP:20260420T233803
CREATED:20250604T095644Z
LAST-MODIFIED:20250604T095644Z
UID:5093-1750269600-1750273200@ingleton-pri.n-yorks.sch.uk
SUMMARY:September Nursery & Reception starters parents meeting
DESCRIPTION:
URL:https://ingleton-pri.n-yorks.sch.uk/event/september-nursery-reception-starters-parents-meeting/
END:VEVENT
BEGIN:VEVENT
DTSTART;TZID=UTC:20250623T090000
DTEND;TZID=UTC:20250623T153000
DTSTAMP:20260420T233803
CREATED:20250206T133604Z
LAST-MODIFIED:20250206T133609Z
UID:4872-1750669200-1750692600@ingleton-pri.n-yorks.sch.uk
SUMMARY:Y6 Whernside
DESCRIPTION:
URL:https://ingleton-pri.n-yorks.sch.uk/event/y6-whernside/
END:VEVENT
BEGIN:VEVENT
DTSTART;TZID=UTC:20250623T093000
DTEND;TZID=UTC:20250623T153000
DTSTAMP:20260420T233803
CREATED:20250604T095742Z
LAST-MODIFIED:20250604T095742Z
UID:5099-1750671000-1750692600@ingleton-pri.n-yorks.sch.uk
SUMMARY:Y3 & 4 Trip to Ambleside
DESCRIPTION:
URL:https://ingleton-pri.n-yorks.sch.uk/event/y3-4-trip-to-ambleside/
END:VEVENT
BEGIN:VEVENT
DTSTART;TZID=UTC:20250623T140000
DTEND;TZID=UTC:20250623T150000
DTSTAMP:20260420T233803
CREATED:20250604T095810Z
LAST-MODIFIED:20250604T095810Z
UID:5102-1750687200-1750690800@ingleton-pri.n-yorks.sch.uk
SUMMARY:Nursery Stay and Play
DESCRIPTION:
URL:https://ingleton-pri.n-yorks.sch.uk/event/nursery-stay-and-play-2/
END:VEVENT
BEGIN:VEVENT
DTSTART;TZID=UTC:20250624T090000
DTEND;TZID=UTC:20250624T150000
DTSTAMP:20260420T233803
CREATED:20250206T133633Z
LAST-MODIFIED:20250206T133638Z
UID:4875-1750755600-1750777200@ingleton-pri.n-yorks.sch.uk
SUMMARY:Y2 - Yordas cave
DESCRIPTION:
URL:https://ingleton-pri.n-yorks.sch.uk/event/y2-yordas-cave/
END:VEVENT
BEGIN:VEVENT
DTSTART;TZID=UTC:20250625T093000
DTEND;TZID=UTC:20250625T103000
DTSTAMP:20260420T233803
CREATED:20250604T095839Z
LAST-MODIFIED:20250604T095839Z
UID:5105-1750843800-1750847400@ingleton-pri.n-yorks.sch.uk
SUMMARY:Nursery mini olympics
DESCRIPTION:
URL:https://ingleton-pri.n-yorks.sch.uk/event/nursery-mini-olympics-2/
END:VEVENT
BEGIN:VEVENT
DTSTART;TZID=UTC:20250627T093000
DTEND;TZID=UTC:20250627T150000
DTSTAMP:20260420T233803
CREATED:20250624T103728Z
LAST-MODIFIED:20250624T103728Z
UID:5153-1751016600-1751036400@ingleton-pri.n-yorks.sch.uk
SUMMARY:Reception trip to Half Moon Bay
DESCRIPTION:
URL:https://ingleton-pri.n-yorks.sch.uk/event/reception-trip-to-half-moon-bay/
END:VEVENT
END:VCALENDAR