BEGIN:VCALENDAR
VERSION:2.0
PRODID:-//Ingleton Primary School - ECPv6.15.20//NONSGML v1.0//EN
CALSCALE:GREGORIAN
METHOD:PUBLISH
X-WR-CALNAME:Ingleton Primary School
X-ORIGINAL-URL:https://ingleton-pri.n-yorks.sch.uk
X-WR-CALDESC:Events for Ingleton Primary School
REFRESH-INTERVAL;VALUE=DURATION:PT1H
X-Robots-Tag:noindex
X-PUBLISHED-TTL:PT1H
BEGIN:VTIMEZONE
TZID:UTC
BEGIN:STANDARD
TZOFFSETFROM:+0000
TZOFFSETTO:+0000
TZNAME:UTC
DTSTART:20230101T000000
END:STANDARD
END:VTIMEZONE
BEGIN:VEVENT
DTSTART;TZID=UTC:20241010T153000
DTEND;TZID=UTC:20241010T170000
DTSTAMP:20260420T142759
CREATED:20241001T121043Z
LAST-MODIFIED:20241001T121043Z
UID:4406-1728574200-1728579600@ingleton-pri.n-yorks.sch.uk
SUMMARY:Drop-in meetings - Reception
DESCRIPTION:
URL:https://ingleton-pri.n-yorks.sch.uk/event/drop-in-meetings-reception/
END:VEVENT
BEGIN:VEVENT
DTSTART;TZID=UTC:20241010T180000
DTEND;TZID=UTC:20241010T190000
DTSTAMP:20260420T142759
CREATED:20241001T121153Z
LAST-MODIFIED:20241001T121153Z
UID:4409-1728583200-1728586800@ingleton-pri.n-yorks.sch.uk
SUMMARY:Phonics meeting - Reception
DESCRIPTION:Mrs Burnett and Miss Richardson are holding a meeting on Thursday 10th October at 6pm for parents of children in Dentdale to explain our phonics scheme\, Little Wandle. It is very important that parents understand how best to help their children learn to read and write ‘our way’ or should I say ‘the Little Wandle way.’ I hope everyone is able to attend.
URL:https://ingleton-pri.n-yorks.sch.uk/event/phonics-meeting-reception/
END:VEVENT
BEGIN:VEVENT
DTSTART;TZID=UTC:20241012T140000
DTEND;TZID=UTC:20241012T160000
DTSTAMP:20260420T142759
CREATED:20241001T122434Z
LAST-MODIFIED:20241001T122434Z
UID:4445-1728741600-1728748800@ingleton-pri.n-yorks.sch.uk
SUMMARY:PTA Jumble sale
DESCRIPTION:
URL:https://ingleton-pri.n-yorks.sch.uk/event/pta-jumble-sale-2/
END:VEVENT
BEGIN:VEVENT
DTSTART;TZID=UTC:20241015T103000
DTEND;TZID=UTC:20241015T113000
DTSTAMP:20260420T142759
CREATED:20241001T122150Z
LAST-MODIFIED:20241001T122150Z
UID:4430-1728988200-1728991800@ingleton-pri.n-yorks.sch.uk
SUMMARY:Countryfile Ramble - Nursery and Reception
DESCRIPTION:On Tuesday 15th October our children in Early Years Foundation Stage will be taking part in the ‘Countryfile Ramble.’  We have planned a route around the village and would like to invite parents/grandparents/carers to join us.  Refreshments will be served when we return to school at around 10.30am with all donations going to BBC Children in Need.
URL:https://ingleton-pri.n-yorks.sch.uk/event/countryfile-ramble-nursery-and-reception-2/
END:VEVENT
BEGIN:VEVENT
DTSTART;TZID=UTC:20241016T110000
DTEND;TZID=UTC:20241016T140000
DTSTAMP:20260420T142759
CREATED:20241001T121523Z
LAST-MODIFIED:20241001T121523Z
UID:4421-1729076400-1729087200@ingleton-pri.n-yorks.sch.uk
SUMMARY:Football tournament Y3-6
DESCRIPTION:
URL:https://ingleton-pri.n-yorks.sch.uk/event/football-tournament-y3-6/
END:VEVENT
BEGIN:VEVENT
DTSTART;TZID=UTC:20241017T130000
DTEND;TZID=UTC:20241017T153000
DTSTAMP:20260420T142759
CREATED:20241001T122055Z
LAST-MODIFIED:20241001T122055Z
UID:4427-1729170000-1729179000@ingleton-pri.n-yorks.sch.uk
SUMMARY:Author visit - Brian Beresford
DESCRIPTION:
URL:https://ingleton-pri.n-yorks.sch.uk/event/author-visit-brian-beresford/
END:VEVENT
BEGIN:VEVENT
DTSTART;TZID=UTC:20241018T090000
DTEND;TZID=UTC:20241018T153000
DTSTAMP:20260420T142759
CREATED:20241001T122501Z
LAST-MODIFIED:20241001T122501Z
UID:4448-1729242000-1729265400@ingleton-pri.n-yorks.sch.uk
SUMMARY:Non-uniform day
DESCRIPTION:
URL:https://ingleton-pri.n-yorks.sch.uk/event/non-uniform-day-4/
END:VEVENT
BEGIN:VEVENT
DTSTART;TZID=UTC:20241024T180000
DTEND;TZID=UTC:20241024T190000
DTSTAMP:20260420T142759
CREATED:20241001T122530Z
LAST-MODIFIED:20241001T122530Z
UID:4451-1729792800-1729796400@ingleton-pri.n-yorks.sch.uk
SUMMARY:Pumpkin trail
DESCRIPTION:
URL:https://ingleton-pri.n-yorks.sch.uk/event/pumpkin-trail/
END:VEVENT
BEGIN:VEVENT
DTSTART;VALUE=DATE:20241028
DTEND;VALUE=DATE:20241102
DTSTAMP:20260420T142759
CREATED:20241001T122407Z
LAST-MODIFIED:20241001T122407Z
UID:4442-1730073600-1730505599@ingleton-pri.n-yorks.sch.uk
SUMMARY:Half term holiday
DESCRIPTION:
URL:https://ingleton-pri.n-yorks.sch.uk/event/half-term-holiday/
END:VEVENT
BEGIN:VEVENT
DTSTART;TZID=UTC:20241113T090000
DTEND;TZID=UTC:20241113T153000
DTSTAMP:20260420T142759
CREATED:20241001T122558Z
LAST-MODIFIED:20241001T122558Z
UID:4454-1731488400-1731511800@ingleton-pri.n-yorks.sch.uk
SUMMARY:Christmas jumper swap shop
DESCRIPTION:
URL:https://ingleton-pri.n-yorks.sch.uk/event/christmas-jumper-swap-shop/
END:VEVENT
BEGIN:VEVENT
DTSTART;TZID=UTC:20241114T140000
DTEND;TZID=UTC:20241114T153000
DTSTAMP:20260420T142759
CREATED:20241104T161453Z
LAST-MODIFIED:20241104T161453Z
UID:4495-1731592800-1731598200@ingleton-pri.n-yorks.sch.uk
SUMMARY:Cross Country - Giggleswick school Y3-6
DESCRIPTION:
URL:https://ingleton-pri.n-yorks.sch.uk/event/cross-country-giggleswick-school-y3-6/
END:VEVENT
BEGIN:VEVENT
DTSTART;TZID=UTC:20241115T090000
DTEND;TZID=UTC:20241115T153000
DTSTAMP:20260420T142759
CREATED:20241104T160947Z
LAST-MODIFIED:20241104T160947Z
UID:4489-1731661200-1731684600@ingleton-pri.n-yorks.sch.uk
SUMMARY:Children In Need - "How will you roll?"
DESCRIPTION:More details to follow.
URL:https://ingleton-pri.n-yorks.sch.uk/event/children-in-need-how-will-you-roll/
END:VEVENT
BEGIN:VEVENT
DTSTART;TZID=UTC:20241118T083000
DTEND;TZID=UTC:20241118T120000
DTSTAMP:20260420T142759
CREATED:20241001T122338Z
LAST-MODIFIED:20241001T122338Z
UID:4439-1731918600-1731931200@ingleton-pri.n-yorks.sch.uk
SUMMARY:School photos - individual and family
DESCRIPTION:
URL:https://ingleton-pri.n-yorks.sch.uk/event/school-photos-individual-and-family/
END:VEVENT
BEGIN:VEVENT
DTSTART;TZID=UTC:20241119T090000
DTEND;TZID=UTC:20241119T113000
DTSTAMP:20260420T142759
CREATED:20241104T161729Z
LAST-MODIFIED:20241104T161729Z
UID:4507-1732006800-1732015800@ingleton-pri.n-yorks.sch.uk
SUMMARY:Flu immunisation - Reception to Year 6
DESCRIPTION:
URL:https://ingleton-pri.n-yorks.sch.uk/event/flu-immunisation-reception-to-year-6/
END:VEVENT
BEGIN:VEVENT
DTSTART;TZID=UTC:20241121T090000
DTEND;TZID=UTC:20241121T110000
DTSTAMP:20260420T142759
CREATED:20241104T161608Z
LAST-MODIFIED:20241104T161608Z
UID:4501-1732179600-1732186800@ingleton-pri.n-yorks.sch.uk
SUMMARY:Y2 Multi sports - Bentham Primary School
DESCRIPTION:
URL:https://ingleton-pri.n-yorks.sch.uk/event/y2-multi-sports-bentham-primary-school/
END:VEVENT
BEGIN:VEVENT
DTSTART;TZID=UTC:20241127T130000
DTEND;TZID=UTC:20241127T153000
DTSTAMP:20260420T142759
CREATED:20241104T161529Z
LAST-MODIFIED:20241104T161529Z
UID:4498-1732712400-1732721400@ingleton-pri.n-yorks.sch.uk
SUMMARY:Football tournament Y3-6
DESCRIPTION:
URL:https://ingleton-pri.n-yorks.sch.uk/event/football-tournament-y3-6-2/
END:VEVENT
BEGIN:VEVENT
DTSTART;TZID=UTC:20241202T133000
DTEND;TZID=UTC:20241202T150000
DTSTAMP:20260420T142759
CREATED:20241104T161828Z
LAST-MODIFIED:20241104T161828Z
UID:4510-1733146200-1733151600@ingleton-pri.n-yorks.sch.uk
SUMMARY:Rewind to Christmas - Year 4&5 - Ingleton Methodist Church
DESCRIPTION:
URL:https://ingleton-pri.n-yorks.sch.uk/event/rewind-to-christmas-year-45-ingleton-methodist-church/
END:VEVENT
BEGIN:VEVENT
DTSTART;TZID=UTC:20241205T033000
DTEND;TZID=UTC:20241205T170000
DTSTAMP:20260420T142759
CREATED:20241001T122624Z
LAST-MODIFIED:20241001T122624Z
UID:4457-1733369400-1733418000@ingleton-pri.n-yorks.sch.uk
SUMMARY:Christmas Fair
DESCRIPTION:
URL:https://ingleton-pri.n-yorks.sch.uk/event/christmas-fair/
END:VEVENT
BEGIN:VEVENT
DTSTART;TZID=UTC:20241211T093000
DTEND;TZID=UTC:20241212T100000
DTSTAMP:20260420T142759
CREATED:20241104T161932Z
LAST-MODIFIED:20241127T151305Z
UID:4513-1733909400-1733997600@ingleton-pri.n-yorks.sch.uk
SUMMARY:EYFS Nativity
DESCRIPTION:Nativity 9.30am 11th December and 9.30am 12th December
URL:https://ingleton-pri.n-yorks.sch.uk/event/eyfs-nativity-2/
END:VEVENT
BEGIN:VEVENT
DTSTART;TZID=UTC:20241212T090000
DTEND;TZID=UTC:20241212T133000
DTSTAMP:20260420T142759
CREATED:20241104T161647Z
LAST-MODIFIED:20241104T161647Z
UID:4504-1733994000-1734010200@ingleton-pri.n-yorks.sch.uk
SUMMARY:The Borrowers Y1-Y6
DESCRIPTION:
URL:https://ingleton-pri.n-yorks.sch.uk/event/the-borrowers-y1-y6/
END:VEVENT
BEGIN:VEVENT
DTSTART;TZID=UTC:20241213T120000
DTEND;TZID=UTC:20241213T130000
DTSTAMP:20260420T142759
CREATED:20241104T162158Z
LAST-MODIFIED:20241127T151416Z
UID:4519-1734091200-1734094800@ingleton-pri.n-yorks.sch.uk
SUMMARY:Christmas Dinner & Jumper Day
DESCRIPTION:
URL:https://ingleton-pri.n-yorks.sch.uk/event/christmas-dinner-day-2/
END:VEVENT
BEGIN:VEVENT
DTSTART;TZID=UTC:20241217T180000
DTEND;TZID=UTC:20241217T190000
DTSTAMP:20260420T142759
CREATED:20241104T162131Z
LAST-MODIFIED:20241104T162131Z
UID:4516-1734458400-1734462000@ingleton-pri.n-yorks.sch.uk
SUMMARY:KS2 Carol Service - St Mary's Church
DESCRIPTION:
URL:https://ingleton-pri.n-yorks.sch.uk/event/ks2-carol-service-st-marys-church/
END:VEVENT
BEGIN:VEVENT
DTSTART;TZID=UTC:20241220T090000
DTEND;TZID=UTC:20241220T153000
DTSTAMP:20260420T142759
CREATED:20241104T162229Z
LAST-MODIFIED:20241104T162229Z
UID:4522-1734685200-1734708600@ingleton-pri.n-yorks.sch.uk
SUMMARY:Party Food Day and last day of term
DESCRIPTION:
URL:https://ingleton-pri.n-yorks.sch.uk/event/party-food-day-and-last-day-of-term/
END:VEVENT
BEGIN:VEVENT
DTSTART;TZID=UTC:20250204T153000
DTEND;TZID=UTC:20250204T170000
DTSTAMP:20260420T142759
CREATED:20250206T115507Z
LAST-MODIFIED:20250206T115511Z
UID:4829-1738683000-1738688400@ingleton-pri.n-yorks.sch.uk
SUMMARY:Parents evening
DESCRIPTION:
URL:https://ingleton-pri.n-yorks.sch.uk/event/parents-evening/
END:VEVENT
BEGIN:VEVENT
DTSTART;TZID=UTC:20250206T180000
DTEND;TZID=UTC:20250206T200000
DTSTAMP:20260420T142759
CREATED:20250206T115702Z
LAST-MODIFIED:20250206T115707Z
UID:4832-1738864800-1738872000@ingleton-pri.n-yorks.sch.uk
SUMMARY:Parents evening
DESCRIPTION:
URL:https://ingleton-pri.n-yorks.sch.uk/event/parents-evening-2/
END:VEVENT
BEGIN:VEVENT
DTSTART;TZID=UTC:20250210T180000
DTEND;TZID=UTC:20250210T183000
DTSTAMP:20260420T142759
CREATED:20250206T120204Z
LAST-MODIFIED:20250206T120213Z
UID:4835-1739210400-1739212200@ingleton-pri.n-yorks.sch.uk
SUMMARY:Edinburgh & SATS meeting for Y6 Parents
DESCRIPTION:
URL:https://ingleton-pri.n-yorks.sch.uk/event/edinburgh-sats-meeting-for-y6-parents/
END:VEVENT
BEGIN:VEVENT
DTSTART;TZID=UTC:20250211T090000
DTEND;TZID=UTC:20250211T153000
DTSTAMP:20260420T142759
CREATED:20250206T120647Z
LAST-MODIFIED:20250206T120800Z
UID:4853-1739264400-1739287800@ingleton-pri.n-yorks.sch.uk
SUMMARY:Safer Internet Day
DESCRIPTION:
URL:https://ingleton-pri.n-yorks.sch.uk/event/safer-internet-day/
END:VEVENT
BEGIN:VEVENT
DTSTART;TZID=UTC:20250212T090000
DTEND;TZID=UTC:20250212T113000
DTSTAMP:20260420T142759
CREATED:20250206T120304Z
LAST-MODIFIED:20250206T120310Z
UID:4838-1739350800-1739359800@ingleton-pri.n-yorks.sch.uk
SUMMARY:Swimming Gala @ Settle Pool Y3-6
DESCRIPTION:
URL:https://ingleton-pri.n-yorks.sch.uk/event/swimming-gala-settle-pool-y3-6/
END:VEVENT
BEGIN:VEVENT
DTSTART;TZID=UTC:20250212T173000
DTEND;TZID=UTC:20250212T193000
DTSTAMP:20260420T142759
CREATED:20250206T120432Z
LAST-MODIFIED:20250206T120436Z
UID:4844-1739381400-1739388600@ingleton-pri.n-yorks.sch.uk
SUMMARY:PTA Valentine's Disco
DESCRIPTION:
URL:https://ingleton-pri.n-yorks.sch.uk/event/pta-valentines-disco/
END:VEVENT
BEGIN:VEVENT
DTSTART;TZID=UTC:20250213T174500
DTEND;TZID=UTC:20250213T181500
DTSTAMP:20260420T142759
CREATED:20250206T120354Z
LAST-MODIFIED:20250206T120359Z
UID:4841-1739468700-1739470500@ingleton-pri.n-yorks.sch.uk
SUMMARY:Brathay Meeting for Y5 parents
DESCRIPTION:
URL:https://ingleton-pri.n-yorks.sch.uk/event/brathay-meeting-for-y5-parents/
END:VEVENT
END:VCALENDAR