BEGIN:VCALENDAR
VERSION:2.0
PRODID:-//Ingleton Primary School - ECPv6.15.20//NONSGML v1.0//EN
CALSCALE:GREGORIAN
METHOD:PUBLISH
X-ORIGINAL-URL:https://ingleton-pri.n-yorks.sch.uk
X-WR-CALDESC:Events for Ingleton Primary School
REFRESH-INTERVAL;VALUE=DURATION:PT1H
X-Robots-Tag:noindex
X-PUBLISHED-TTL:PT1H
BEGIN:VTIMEZONE
TZID:UTC
BEGIN:STANDARD
TZOFFSETFROM:+0000
TZOFFSETTO:+0000
TZNAME:UTC
DTSTART:20250101T000000
END:STANDARD
END:VTIMEZONE
BEGIN:VEVENT
DTSTART;TZID=UTC:20260611T090000
DTEND;TZID=UTC:20260611T103000
DTSTAMP:20260422T101220
CREATED:20260415T112548Z
LAST-MODIFIED:20260415T112554Z
UID:5728-1781168400-1781173800@ingleton-pri.n-yorks.sch.uk
SUMMARY:Bags to School Collection
DESCRIPTION:
URL:https://ingleton-pri.n-yorks.sch.uk/event/bags-to-school-collection/
END:VEVENT
END:VCALENDAR